BEGIN:VCALENDAR
VERSION:2.0
PRODID:-//ReForm - ECPv6.15.20//NONSGML v1.0//EN
CALSCALE:GREGORIAN
METHOD:PUBLISH
X-WR-CALNAME:ReForm
X-ORIGINAL-URL:https://reform.ressourcencampus-bochum.de
X-WR-CALDESC:Veranstaltungen für ReForm
REFRESH-INTERVAL;VALUE=DURATION:PT1H
X-Robots-Tag:noindex
X-PUBLISHED-TTL:PT1H
BEGIN:VTIMEZONE
TZID:Europe/Berlin
BEGIN:DAYLIGHT
TZOFFSETFROM:+0100
TZOFFSETTO:+0200
TZNAME:CEST
DTSTART:20250330T010000
END:DAYLIGHT
BEGIN:STANDARD
TZOFFSETFROM:+0200
TZOFFSETTO:+0100
TZNAME:CET
DTSTART:20251026T010000
END:STANDARD
BEGIN:DAYLIGHT
TZOFFSETFROM:+0100
TZOFFSETTO:+0200
TZNAME:CEST
DTSTART:20260329T010000
END:DAYLIGHT
BEGIN:STANDARD
TZOFFSETFROM:+0200
TZOFFSETTO:+0100
TZNAME:CET
DTSTART:20261025T010000
END:STANDARD
BEGIN:DAYLIGHT
TZOFFSETFROM:+0100
TZOFFSETTO:+0200
TZNAME:CEST
DTSTART:20270328T010000
END:DAYLIGHT
BEGIN:STANDARD
TZOFFSETFROM:+0200
TZOFFSETTO:+0100
TZNAME:CET
DTSTART:20271031T010000
END:STANDARD
END:VTIMEZONE
BEGIN:VEVENT
DTSTART;TZID=Europe/Berlin:20260513T190000
DTEND;TZID=Europe/Berlin:20260513T210000
DTSTAMP:20260422T163814
CREATED:20260305T182935Z
LAST-MODIFIED:20260305T182935Z
UID:10317-1778698800-1778706000@reform.ressourcencampus-bochum.de
SUMMARY:Science Slam im Deutschen Bergbau-Museum Bochum
DESCRIPTION:ReForm veranstaltet den dritten Science Slam im Deutschen Bergbaumuseum in Bochum! \nWissenschaftler präsentieren ihre Forschung in kurzen\, informativen Vorträgen und erläutern ihre Projekte in fesselnden Monologen. Das Publikum wählt den spannendsten Vortrag. Seien Sie dabei! \nModeration: Insina Lüschen \nVeranstalterin und Kontakt: Julia Offe (julia@scienceslam.de) \nWeitere Informationen und Tickets: https://www.scienceslam.de/termine/science-slam-im-deutschen-bergbau-museum-bochum-im-mai-2026/
URL:https://reform.ressourcencampus-bochum.de/event/science-slam-im-deutschen-bergbau-museum-bochum/
LOCATION:Auditorium im Deutschen Bergbau-Museum Bochum\, Europaplatz 1\, Bochum\, 44791\, Germany
CATEGORIES:Öffentlichkeitsarbeit
END:VEVENT
END:VCALENDAR