BEGIN:VCALENDAR
VERSION:2.0
PRODID:-//ReForm - ECPv6.15.20//NONSGML v1.0//EN
CALSCALE:GREGORIAN
METHOD:PUBLISH
X-WR-CALNAME:ReForm
X-ORIGINAL-URL:https://reform.ressourcencampus-bochum.de
X-WR-CALDESC:Veranstaltungen für ReForm
REFRESH-INTERVAL;VALUE=DURATION:PT1H
X-Robots-Tag:noindex
X-PUBLISHED-TTL:PT1H
BEGIN:VTIMEZONE
TZID:Europe/Berlin
BEGIN:DAYLIGHT
TZOFFSETFROM:+0100
TZOFFSETTO:+0200
TZNAME:CEST
DTSTART:20220327T010000
END:DAYLIGHT
BEGIN:STANDARD
TZOFFSETFROM:+0200
TZOFFSETTO:+0100
TZNAME:CET
DTSTART:20221030T010000
END:STANDARD
BEGIN:DAYLIGHT
TZOFFSETFROM:+0100
TZOFFSETTO:+0200
TZNAME:CEST
DTSTART:20230326T010000
END:DAYLIGHT
BEGIN:STANDARD
TZOFFSETFROM:+0200
TZOFFSETTO:+0100
TZNAME:CET
DTSTART:20231029T010000
END:STANDARD
BEGIN:DAYLIGHT
TZOFFSETFROM:+0100
TZOFFSETTO:+0200
TZNAME:CEST
DTSTART:20240331T010000
END:DAYLIGHT
BEGIN:STANDARD
TZOFFSETFROM:+0200
TZOFFSETTO:+0100
TZNAME:CET
DTSTART:20241027T010000
END:STANDARD
END:VTIMEZONE
BEGIN:VEVENT
DTSTART;TZID=Europe/Berlin:20230217T130000
DTEND;TZID=Europe/Berlin:20230217T160000
DTSTAMP:20260420T164027
CREATED:20230130T104928Z
LAST-MODIFIED:20230130T104928Z
UID:6107-1676638800-1676649600@reform.ressourcencampus-bochum.de
SUMMARY:ReSkill #2: Agent-based modelling
DESCRIPTION:Die zweite ReSkill-Sitzung\, in der wir das vorherige Tutorial zur agentenbasierten Modellierung (ABM) fortsetzen. \nWeitere Informationen finden Sie hier: “ReSkill #2”
URL:https://reform.ressourcencampus-bochum.de/event/reskill-2-agent-based-modelling/
LOCATION:Computerlab im Haus der Archäologien\, Am Bergbaumuseum 31\, Bochum\, NR-Westfalia\, 44791\, Deutschland
CATEGORIES:ReForum,ReSkill
END:VEVENT
END:VCALENDAR