BEGIN:VCALENDAR
VERSION:2.0
PRODID:-//ReForm - ECPv6.15.20//NONSGML v1.0//EN
CALSCALE:GREGORIAN
METHOD:PUBLISH
X-WR-CALNAME:ReForm
X-ORIGINAL-URL:https://reform.ressourcencampus-bochum.de
X-WR-CALDESC:Veranstaltungen für ReForm
REFRESH-INTERVAL;VALUE=DURATION:PT1H
X-Robots-Tag:noindex
X-PUBLISHED-TTL:PT1H
BEGIN:VTIMEZONE
TZID:Europe/Berlin
BEGIN:DAYLIGHT
TZOFFSETFROM:+0100
TZOFFSETTO:+0200
TZNAME:CEST
DTSTART:20220327T010000
END:DAYLIGHT
BEGIN:STANDARD
TZOFFSETFROM:+0200
TZOFFSETTO:+0100
TZNAME:CET
DTSTART:20221030T010000
END:STANDARD
BEGIN:DAYLIGHT
TZOFFSETFROM:+0100
TZOFFSETTO:+0200
TZNAME:CEST
DTSTART:20230326T010000
END:DAYLIGHT
BEGIN:STANDARD
TZOFFSETFROM:+0200
TZOFFSETTO:+0100
TZNAME:CET
DTSTART:20231029T010000
END:STANDARD
BEGIN:DAYLIGHT
TZOFFSETFROM:+0100
TZOFFSETTO:+0200
TZNAME:CEST
DTSTART:20240331T010000
END:DAYLIGHT
BEGIN:STANDARD
TZOFFSETFROM:+0200
TZOFFSETTO:+0100
TZNAME:CET
DTSTART:20241027T010000
END:STANDARD
END:VTIMEZONE
BEGIN:VEVENT
DTSTART;TZID=Europe/Berlin:20231024T160000
DTEND;TZID=Europe/Berlin:20231024T180000
DTSTAMP:20260420T203817
CREATED:20231009T084204Z
LAST-MODIFIED:20231129T104543Z
UID:7197-1698163200-1698170400@reform.ressourcencampus-bochum.de
SUMMARY:Kolloquium: Tobias Skowronek (THGA) - Echoes from Benin
DESCRIPTION:Am 24. Oktober ist Tobias Skowronek (THGA) zu Gast. Er wird über “Echoes from Benin – German Metal Export to West Africa at the Dawn of Industrialization” sprechen. \nHinweise zur Veranstaltung:\nDas Kolloquium findet im Auditorium des Deutschen Bergbau-Museums statt. Im Anschluss ist ein gemeinsames Abendessen geplant. Für eine Online-Teilnahme wird um Anmeldung unter reform@ressourcencampus-bochum.de gebeten.
URL:https://reform.ressourcencampus-bochum.de/event/kolloquium-tobias-skowronek-thga-echoes-from-benin/
LOCATION:Auditorium im Deutschen Bergbau-Museum Bochum\, Europaplatz 1\, Bochum\, 44791\, Germany
CATEGORIES:Vortrag
END:VEVENT
END:VCALENDAR