BEGIN:VCALENDAR
VERSION:2.0
PRODID:-//ReForm - ECPv6.15.20//NONSGML v1.0//EN
CALSCALE:GREGORIAN
METHOD:PUBLISH
X-WR-CALNAME:ReForm
X-ORIGINAL-URL:https://reform.ressourcencampus-bochum.de
X-WR-CALDESC:Veranstaltungen für ReForm
REFRESH-INTERVAL;VALUE=DURATION:PT1H
X-Robots-Tag:noindex
X-PUBLISHED-TTL:PT1H
BEGIN:VTIMEZONE
TZID:Europe/Berlin
BEGIN:DAYLIGHT
TZOFFSETFROM:+0100
TZOFFSETTO:+0200
TZNAME:CEST
DTSTART:20220327T010000
END:DAYLIGHT
BEGIN:STANDARD
TZOFFSETFROM:+0200
TZOFFSETTO:+0100
TZNAME:CET
DTSTART:20221030T010000
END:STANDARD
BEGIN:DAYLIGHT
TZOFFSETFROM:+0100
TZOFFSETTO:+0200
TZNAME:CEST
DTSTART:20230326T010000
END:DAYLIGHT
BEGIN:STANDARD
TZOFFSETFROM:+0200
TZOFFSETTO:+0100
TZNAME:CET
DTSTART:20231029T010000
END:STANDARD
BEGIN:DAYLIGHT
TZOFFSETFROM:+0100
TZOFFSETTO:+0200
TZNAME:CEST
DTSTART:20240331T010000
END:DAYLIGHT
BEGIN:STANDARD
TZOFFSETFROM:+0200
TZOFFSETTO:+0100
TZNAME:CET
DTSTART:20241027T010000
END:STANDARD
END:VTIMEZONE
BEGIN:VEVENT
DTSTART;TZID=Europe/Berlin:20231208T090000
DTEND;TZID=Europe/Berlin:20231208T150000
DTSTAMP:20260420T170249
CREATED:20230719T070526Z
LAST-MODIFIED:20231208T044815Z
UID:6996-1702026000-1702047600@reform.ressourcencampus-bochum.de
SUMMARY:Workshop: Resources and Sustainability? Interdisciplinary Perspectives on Practices of Extraction\, Reclamation and Appropriation in Past and Present
DESCRIPTION:Die aktuelle Klimakrise und die Diskussionen um die gegenwärtige und zukünftige Verfügbarkeit und Nutzung von Georessourcen verschaffen dem Themenkomplex Nachhaltigkeit und Ressourcen eine große Resonanz in Politik\, Wirtschaft\, Wissenschaft und Öffentlichkeit. Nachhaltigkeitsdebatten im Kontext von Extraktion\, Aneignung und Nutzung von Georessourcen sind jedoch nicht nur ein dringliches Anliegen der Gegenwart. Dieser Workshop untersucht die komplexe Beziehung zwischen Nachhaltigkeit und Ressourcengewinnung in Geschichte und Gegenwart. Durch die Untersuchung von Fallstudien aus verschiedenen Zeiträumen wollen wir Einblicke in die langfristigen Folgen von Extraktionspraktiken auf ökologische Systeme und menschliche Gesellschaften gewinnen. \nWeitere Informationen finden Sie HIER.
URL:https://reform.ressourcencampus-bochum.de/event/bergbau-und-nachhaltigkeit/
LOCATION:Technische Hochschule Georg Agricola\, Herner Str. 45\, Bochum\, Nordrhein-Westfalen\, 44787\, Deutschland
CATEGORIES:Workshop
END:VEVENT
END:VCALENDAR