BEGIN:VCALENDAR
VERSION:2.0
PRODID:-//ReForm - ECPv6.15.20//NONSGML v1.0//EN
CALSCALE:GREGORIAN
METHOD:PUBLISH
X-WR-CALNAME:ReForm
X-ORIGINAL-URL:https://reform.ressourcencampus-bochum.de
X-WR-CALDESC:Veranstaltungen für ReForm
REFRESH-INTERVAL;VALUE=DURATION:PT1H
X-Robots-Tag:noindex
X-PUBLISHED-TTL:PT1H
BEGIN:VTIMEZONE
TZID:Europe/Berlin
BEGIN:DAYLIGHT
TZOFFSETFROM:+0100
TZOFFSETTO:+0200
TZNAME:CEST
DTSTART:20240331T010000
END:DAYLIGHT
BEGIN:STANDARD
TZOFFSETFROM:+0200
TZOFFSETTO:+0100
TZNAME:CET
DTSTART:20241027T010000
END:STANDARD
BEGIN:DAYLIGHT
TZOFFSETFROM:+0100
TZOFFSETTO:+0200
TZNAME:CEST
DTSTART:20250330T010000
END:DAYLIGHT
BEGIN:STANDARD
TZOFFSETFROM:+0200
TZOFFSETTO:+0100
TZNAME:CET
DTSTART:20251026T010000
END:STANDARD
BEGIN:DAYLIGHT
TZOFFSETFROM:+0100
TZOFFSETTO:+0200
TZNAME:CEST
DTSTART:20260329T010000
END:DAYLIGHT
BEGIN:STANDARD
TZOFFSETFROM:+0200
TZOFFSETTO:+0100
TZNAME:CET
DTSTART:20261025T010000
END:STANDARD
END:VTIMEZONE
BEGIN:VEVENT
DTSTART;TZID=Europe/Berlin:20250225T190000
DTEND;TZID=Europe/Berlin:20250225T210000
DTSTAMP:20260425T002406
CREATED:20241006T181332Z
LAST-MODIFIED:20241202T120318Z
UID:8672-1740510000-1740517200@reform.ressourcencampus-bochum.de
SUMMARY:Science Slam No 2
DESCRIPTION:Am 25. Februar ist es wieder so weit! Es geht in die nächste Runde “Science Slam” geht an den Start. 6 hoffnungsvolle junge Wissenschaftler:innen aus dem ReForm-Kosmos stellen ihre Forschung auf eine unterhaltsame Art und Weise dem kritischen Publikum vor. Wer wird das Publikum begeistern und zum Publikumsliebling gekrönt? \nEinlass: 18:00 Uhr \nBeginn: 19:00 Uhr \nDer Ticketverkauf geht über die Website von Science Slam:  https://www.scienceslam.de/termine-tickets/
URL:https://reform.ressourcencampus-bochum.de/event/save-the-date-science-slam-no-2/
LOCATION:Auditorium im Deutschen Bergbau-Museum Bochum\, Europaplatz 1\, Bochum\, 44791\, Germany
END:VEVENT
END:VCALENDAR